BEGIN:VCALENDAR
VERSION:2.0
PRODID:SchoolNow
CALSCALE:GREGORIAN
BEGIN:VEVENT
UID:07bca160-de88-11ef-b3d8-0a58a9feac02
DTSTAMP:20250129T212918Z
SUMMARY:Half Day
URL;VALUE=URI:https://www.winchesterschools.org/central-office/calendar/739
 5081/half-day-staff-development-clone-clone-clone-clone-clone-clone-clone-
 clone
DTSTART:20260408T123500Z
DTEND:20260408T171000Z
END:VEVENT
END:VCALENDAR
