BEGIN:VCALENDAR
VERSION:2.0
PRODID:SchoolNow
CALSCALE:GREGORIAN
BEGIN:VEVENT
UID:6128a998-df3b-11ef-8c02-0affc22fa523
DTSTAMP:20250130T185239Z
SUMMARY:Drama Club
LOCATION:Pearson School
URL;VALUE=URI:https://www.winchesterschools.org/central-office/calendar/739
 8633/ski-club-clone-clone-clone-clone-clone-clone-clone-clone-clone-clone-
 clone-clone
DTSTART:20250401T190000Z
DTEND:20250401T210000Z
END:VEVENT
END:VCALENDAR
