BEGIN:VCALENDAR
VERSION:2.0
PRODID:SchoolNow
CALSCALE:GREGORIAN
BEGIN:VEVENT
UID:ccf9d1ba-df3b-11ef-8c98-0240e9ffd399
DTSTAMP:20250130T185540Z
SUMMARY:Drama Club
LOCATION:Pearson School
URL;VALUE=URI:https://www.winchesterschools.org/central-office/calendar/739
 8652/ski-club-clone-clone-clone-clone-clone-clone-clone-clone-clone-clone-
 clone-clone-clone-clone-clone-clone-clone
DTSTART:20250422T190000Z
DTEND:20250422T210000Z
END:VEVENT
END:VCALENDAR
