BEGIN:VCALENDAR
VERSION:2.0
PRODID:SchoolNow
CALSCALE:GREGORIAN
BEGIN:VEVENT
UID:edded2b8-df3b-11ef-abb4-0a58a9feac02
DTSTAMP:20250130T185635Z
SUMMARY:Drama Club @ Gilbert
LOCATION:Gilbert School
URL;VALUE=URI:https://www.winchesterschools.org/central-office/calendar/739
 8656/ski-club-clone-clone-clone-clone-clone-clone-clone-clone-clone-clone-
 clone-clone-clone-clone-clone-clone-clone-clone
DTSTART:20250423T190000Z
DTEND:20250423T210000Z
END:VEVENT
END:VCALENDAR
