BEGIN:VCALENDAR
VERSION:2.0
PRODID:SchoolNow
CALSCALE:GREGORIAN
BEGIN:VEVENT
UID:4f41c314-e881-11ef-8bd0-0eb74bea8c9f
DTSTAMP:20250211T140554Z
SUMMARY:Half Day
URL;VALUE=URI:https://www.winchesterschools.org/central-office/calendar/745
 2831/half-day-clone-clone-clone-clone
DTSTART:20250411T122500Z
DTEND:20250411T170000Z
END:VEVENT
END:VCALENDAR
