BEGIN:VCALENDAR
VERSION:2.0
PRODID:SchoolNow
CALSCALE:GREGORIAN
BEGIN:VEVENT
UID:668b6c30-7197-11e9-9559-0a241182d0e6
DTSTAMP:20190508T134428Z
SUMMARY:PTO Meeting
LOCATION:Pearson School - Library
URL;VALUE=URI:https://www.winchesterschools.org/pearson-school/calendar/198
 3063/pto-meeting
DTSTART:20190513T213000Z
DTEND:20190513T223000Z
END:VEVENT
END:VCALENDAR
