BEGIN:VCALENDAR
VERSION:2.0
PRODID:SchoolNow
CALSCALE:GREGORIAN
BEGIN:VEVENT
UID:895b8db2-76bf-11e9-9832-12d5bd49dede
DTSTAMP:20190515T031605Z
SUMMARY:BOE Regular Meeting
LOCATION:Town Hall - Hicks Room
URL;VALUE=URI:https://www.winchesterschools.org/pearson-school/calendar/198
 5784/boe-regular-meeting
DTSTART:20190514T230000Z
DTEND:20190515T010000Z
END:VEVENT
END:VCALENDAR
