BEGIN:VCALENDAR
VERSION:2.0
PRODID:SchoolNow
CALSCALE:GREGORIAN
BEGIN:VEVENT
UID:a8e6fd1a-76bf-11e9-9fd7-12d5bd49dede
DTSTAMP:20190515T031623Z
SUMMARY:Special Meeting - Canceled
LOCATION:Town Hall - 3rd floor conference room
URL;VALUE=URI:https://www.winchesterschools.org/pearson-school/calendar/198
 5785/special-meeting-canceled
DTSTART:20190517T120000Z
DTEND:20190517T140000Z
END:VEVENT
END:VCALENDAR
