BEGIN:VCALENDAR
VERSION:2.0
PRODID:SchoolNow
CALSCALE:GREGORIAN
BEGIN:VEVENT
UID:d4ca733e-88c7-11e9-b817-12b3fbf531d0
DTSTAMP:20190712T134518Z
SUMMARY:6th Grade Promotion Ceremony
LOCATION:Pearson School
URL;VALUE=URI:https://www.winchesterschools.org/pearson-school/calendar/199
 9982/6th-grade-promotion-ceremony
DTSTART:20190614T130000Z
DTEND:20190614T143000Z
END:VEVENT
END:VCALENDAR
