BEGIN:VCALENDAR
VERSION:2.0
PRODID:SchoolNow
CALSCALE:GREGORIAN
BEGIN:VEVENT
UID:f7902428-d295-11e9-935b-120de26f7cf6
DTSTAMP:20190909T000835Z
SUMMARY:PTO Meeting
LOCATION:Pearson School - Library
URL;VALUE=URI:https://www.winchesterschools.org/pearson-school/calendar/208
 6826/pto-meeting
DTSTART:20191022T214500Z
DTEND:20191023T010700Z
END:VEVENT
END:VCALENDAR
