BEGIN:VCALENDAR
VERSION:2.0
PRODID:SchoolNow
CALSCALE:GREGORIAN
BEGIN:VEVENT
UID:1adbb78a-d296-11e9-a617-120de26f7cf6
DTSTAMP:20190909T000934Z
SUMMARY:PTO Meeting
LOCATION:Pearson School - Library
URL;VALUE=URI:https://www.winchesterschools.org/pearson-school/calendar/208
 6829/pto-meeting
DTSTART:20191126T224500Z
DTEND:20191127T020800Z
END:VEVENT
END:VCALENDAR
