BEGIN:VCALENDAR
VERSION:2.0
PRODID:SchoolNow
CALSCALE:GREGORIAN
BEGIN:VEVENT
UID:48df9dae-d296-11e9-9dda-120de26f7cf6
DTSTAMP:20190909T001052Z
SUMMARY:PTO Meeting
LOCATION:Pearson School - Library
URL;VALUE=URI:https://www.winchesterschools.org/pearson-school/calendar/208
 6832/pto-meeting
DTSTART:20200128T224500Z
DTEND:20200129T020900Z
END:VEVENT
END:VCALENDAR
