BEGIN:VCALENDAR
VERSION:2.0
PRODID:SchoolNow
CALSCALE:GREGORIAN
BEGIN:VEVENT
UID:96c39e9e-d296-11e9-b9e5-120de26f7cf6
DTSTAMP:20190909T001302Z
SUMMARY:PTO Meeting
LOCATION:Pearson School Library
URL;VALUE=URI:https://www.winchesterschools.org/pearson-school/calendar/208
 6838/pto-meeting
DTSTART:20200324T214500Z
DTEND:20200325T011200Z
END:VEVENT
END:VCALENDAR
