BEGIN:VCALENDAR
VERSION:2.0
PRODID:SchoolNow
CALSCALE:GREGORIAN
BEGIN:VEVENT
UID:61491c50-ea2c-11e9-8a92-12d45e688dfe
DTSTAMP:20191009T004018Z
SUMMARY:Talent Show
LOCATION:Pearson School
URL;VALUE=URI:https://www.winchesterschools.org/pearson-school/calendar/211
 7487/talent-show
DTSTART:20191115T230000Z
DTEND:20191116T010000Z
END:VEVENT
END:VCALENDAR
