BEGIN:VCALENDAR
VERSION:2.0
PRODID:SchoolNow
CALSCALE:GREGORIAN
BEGIN:VEVENT
UID:7c3e1eaa-ea2e-11e9-aea2-12d45e688dfe
DTSTAMP:20191009T004818Z
SUMMARY:Staff Dev. - Students Off
URL;VALUE=URI:https://www.winchesterschools.org/pearson-school/calendar/211
 7498/staff-dev-students-off
DTSTART;VALUE=DATE:20191105
DTEND;VALUE=DATE:20191106
END:VEVENT
END:VCALENDAR
