BEGIN:VCALENDAR
VERSION:2.0
PRODID:SchoolNow
CALSCALE:GREGORIAN
BEGIN:VEVENT
UID:874d8e84-ea2e-11e9-a6aa-12d45e688dfe
DTSTAMP:20191009T004837Z
SUMMARY:1/2 Day Students - Staff Dev.
URL;VALUE=URI:https://www.winchesterschools.org/pearson-school/calendar/211
 7500/1-2-day-students-staff-dev
DTSTART;VALUE=DATE:20191009
DTEND;VALUE=DATE:20191010
END:VEVENT
END:VCALENDAR
