BEGIN:VCALENDAR
VERSION:2.0
PRODID:SchoolNow
CALSCALE:GREGORIAN
BEGIN:VEVENT
UID:3e21795e-ea2f-11e9-93bf-12d45e688dfe
DTSTAMP:20191009T005343Z
SUMMARY:Grades Close
URL;VALUE=URI:https://www.winchesterschools.org/pearson-school/calendar/211
 7511/grades-close
DTSTART;VALUE=DATE:20191119
DTEND;VALUE=DATE:20191120
END:VEVENT
END:VCALENDAR
