BEGIN:VCALENDAR
VERSION:2.0
PRODID:SchoolNow
CALSCALE:GREGORIAN
BEGIN:VEVENT
UID:5df2321e-ea2f-11e9-a5f4-12d45e688dfe
DTSTAMP:20191009T005437Z
SUMMARY:Thanksgiving Recess
URL;VALUE=URI:https://www.winchesterschools.org/pearson-school/calendar/211
 7517/thanksgiving-recess
DTSTART;VALUE=DATE:20191128
DTEND;VALUE=DATE:20191129
END:VEVENT
END:VCALENDAR
