BEGIN:VCALENDAR
VERSION:2.0
PRODID:SchoolNow
CALSCALE:GREGORIAN
BEGIN:VEVENT
UID:6c9759a2-ea2f-11e9-a80b-12d45e688dfe
DTSTAMP:20191009T005501Z
SUMMARY:Thanksgiving Recess
URL;VALUE=URI:https://www.winchesterschools.org/pearson-school/calendar/211
 7520/thanksgiving-recess
DTSTART;VALUE=DATE:20191129
DTEND;VALUE=DATE:20191130
END:VEVENT
END:VCALENDAR
