BEGIN:VCALENDAR
VERSION:2.0
PRODID:SchoolNow
CALSCALE:GREGORIAN
BEGIN:VEVENT
UID:8c7f6b60-ea2f-11e9-a66e-12d45e688dfe
DTSTAMP:20191009T005555Z
SUMMARY:1/2 Day All: Evening Conferences
URL;VALUE=URI:https://www.winchesterschools.org/pearson-school/calendar/211
 7526/1-2-day-all-evening-conferences
DTSTART;VALUE=DATE:20191205
DTEND;VALUE=DATE:20191206
END:VEVENT
END:VCALENDAR
