BEGIN:VCALENDAR
VERSION:2.0
PRODID:SchoolNow
CALSCALE:GREGORIAN
BEGIN:VEVENT
UID:9a3aa26a-ea2f-11e9-821c-12d45e688dfe
DTSTAMP:20191009T005618Z
SUMMARY:BOE Regular Meeting
LOCATION:Town Hall Hicks Room
URL;VALUE=URI:https://www.winchesterschools.org/pearson-school/calendar/211
 7529/boe-regular-meeting
DTSTART:20191211T000000Z
DTEND:20191211T010000Z
END:VEVENT
END:VCALENDAR
