BEGIN:VCALENDAR
VERSION:2.0
PRODID:SchoolNow
CALSCALE:GREGORIAN
BEGIN:VEVENT
UID:a7d5f348-ea2f-11e9-ac34-12d45e688dfe
DTSTAMP:20191218T005131Z
SUMMARY:Committee Meetings
LOCATION:Pearson School
URL;VALUE=URI:https://www.winchesterschools.org/pearson-school/calendar/211
 7532/committee-meetings
DTSTART:20191217T233000Z
DTEND:20191218T020000Z
END:VEVENT
END:VCALENDAR
