BEGIN:VCALENDAR
VERSION:2.0
PRODID:SchoolNow
CALSCALE:GREGORIAN
BEGIN:VEVENT
UID:b65df6b8-ea2f-11e9-807b-12d45e688dfe
DTSTAMP:20191009T005705Z
SUMMARY:Holiday Recess
URL;VALUE=URI:https://www.winchesterschools.org/pearson-school/calendar/211
 7535/holiday-recess
DTSTART;VALUE=DATE:20191223
DTEND;VALUE=DATE:20191224
END:VEVENT
END:VCALENDAR
