BEGIN:VCALENDAR
VERSION:2.0
PRODID:SchoolNow
CALSCALE:GREGORIAN
BEGIN:VEVENT
UID:cd063bb4-ea2f-11e9-b6b0-12d45e688dfe
DTSTAMP:20191009T005743Z
SUMMARY:Holiday Recess
URL;VALUE=URI:https://www.winchesterschools.org/pearson-school/calendar/211
 7538/holiday-recess
DTSTART;VALUE=DATE:20191224
DTEND;VALUE=DATE:20191225
END:VEVENT
END:VCALENDAR
