BEGIN:VCALENDAR
VERSION:2.0
PRODID:SchoolNow
CALSCALE:GREGORIAN
BEGIN:VEVENT
UID:efa1c8aa-ea2f-11e9-a570-12d45e688dfe
DTSTAMP:20191009T005841Z
SUMMARY:Holiday Recess
URL;VALUE=URI:https://www.winchesterschools.org/pearson-school/calendar/211
 7544/holiday-recess
DTSTART;VALUE=DATE:20191225
DTEND;VALUE=DATE:20191226
END:VEVENT
END:VCALENDAR
