BEGIN:VCALENDAR
VERSION:2.0
PRODID:SchoolNow
CALSCALE:GREGORIAN
BEGIN:VEVENT
UID:01bc0c76-ea30-11e9-802a-12d45e688dfe
DTSTAMP:20191009T005911Z
SUMMARY:Holiday Recess
URL;VALUE=URI:https://www.winchesterschools.org/pearson-school/calendar/211
 7547/holiday-recess
DTSTART;VALUE=DATE:20191226
DTEND;VALUE=DATE:20191227
END:VEVENT
END:VCALENDAR
