BEGIN:VCALENDAR
VERSION:2.0
PRODID:SchoolNow
CALSCALE:GREGORIAN
BEGIN:VEVENT
UID:21d30d8e-ea30-11e9-a7ff-12d45e688dfe
DTSTAMP:20191009T010005Z
SUMMARY:Report Cards Issued
URL;VALUE=URI:https://www.winchesterschools.org/pearson-school/calendar/211
 7550/report-cards-issued
DTSTART;VALUE=DATE:20200313
DTEND;VALUE=DATE:20200314
END:VEVENT
END:VCALENDAR
