BEGIN:VCALENDAR
VERSION:2.0
PRODID:SchoolNow
CALSCALE:GREGORIAN
BEGIN:VEVENT
UID:8976ed84-ea30-11e9-807d-0a20d2c7fac4
DTSTAMP:20191009T010259Z
SUMMARY:Holiday Recess
URL;VALUE=URI:https://www.winchesterschools.org/pearson-school/calendar/211
 7553/holiday-recess
DTSTART;VALUE=DATE:20191227
DTEND;VALUE=DATE:20191228
END:VEVENT
END:VCALENDAR
