BEGIN:VCALENDAR
VERSION:2.0
PRODID:SchoolNow
CALSCALE:GREGORIAN
BEGIN:VEVENT
UID:a0223a84-ea30-11e9-b1c4-0a20d2c7fac4
DTSTAMP:20191009T010337Z
SUMMARY:Holiday Recess
URL;VALUE=URI:https://www.winchesterschools.org/pearson-school/calendar/211
 7556/holiday-recess
DTSTART;VALUE=DATE:20191230
DTEND;VALUE=DATE:20191231
END:VEVENT
END:VCALENDAR
