BEGIN:VCALENDAR
VERSION:2.0
PRODID:SchoolNow
CALSCALE:GREGORIAN
BEGIN:VEVENT
UID:c08819d8-ea30-11e9-aaa7-0a20d2c7fac4
DTSTAMP:20191009T010432Z
SUMMARY:Holiday Recess
URL;VALUE=URI:https://www.winchesterschools.org/pearson-school/calendar/211
 7559/holiday-recess
DTSTART;VALUE=DATE:20200101
DTEND;VALUE=DATE:20200102
END:VEVENT
END:VCALENDAR
