BEGIN:VCALENDAR
VERSION:2.0
PRODID:SchoolNow
CALSCALE:GREGORIAN
BEGIN:VEVENT
UID:edcdc4b0-ea30-11e9-b811-0a20d2c7fac4
DTSTAMP:20191009T010548Z
SUMMARY:Holiday Recess
URL;VALUE=URI:https://www.winchesterschools.org/pearson-school/calendar/211
 7563/holiday-recess
DTSTART;VALUE=DATE:20191231
DTEND;VALUE=DATE:20200101
END:VEVENT
END:VCALENDAR
