BEGIN:VCALENDAR
VERSION:2.0
PRODID:SchoolNow
CALSCALE:GREGORIAN
BEGIN:VEVENT
UID:07232d7e-ea31-11e9-abd0-0a20d2c7fac4
DTSTAMP:20191009T010630Z
SUMMARY:New Year's Day
URL;VALUE=URI:https://www.winchesterschools.org/pearson-school/calendar/211
 7566/new-years-day
DTSTART;VALUE=DATE:20200101
DTEND;VALUE=DATE:20200102
END:VEVENT
END:VCALENDAR
