BEGIN:VCALENDAR
VERSION:2.0
PRODID:SchoolNow
CALSCALE:GREGORIAN
BEGIN:VEVENT
UID:141a5868-ea31-11e9-9e89-0a20d2c7fac4
DTSTAMP:20191009T010652Z
SUMMARY:School Reopens
URL;VALUE=URI:https://www.winchesterschools.org/pearson-school/calendar/211
 7569/school-reopens
DTSTART;VALUE=DATE:20200102
DTEND;VALUE=DATE:20200103
END:VEVENT
END:VCALENDAR
