BEGIN:VCALENDAR
VERSION:2.0
PRODID:SchoolNow
CALSCALE:GREGORIAN
BEGIN:VEVENT
UID:372c2160-ea31-11e9-b118-0a20d2c7fac4
DTSTAMP:20191009T010751Z
SUMMARY:1/2 Day Students - Staff Dev.
URL;VALUE=URI:https://www.winchesterschools.org/pearson-school/calendar/211
 7575/1-2-day-students-staff-dev
DTSTART;VALUE=DATE:20200115
DTEND;VALUE=DATE:20200116
END:VEVENT
END:VCALENDAR
