BEGIN:VCALENDAR
VERSION:2.0
PRODID:SchoolNow
CALSCALE:GREGORIAN
BEGIN:VEVENT
UID:49ebab18-ea31-11e9-9204-0a20d2c7fac4
DTSTAMP:20191009T010822Z
SUMMARY:M.L. King Jr. Day
URL;VALUE=URI:https://www.winchesterschools.org/pearson-school/calendar/211
 7578/m-l-king-jr-day
DTSTART;VALUE=DATE:20200120
DTEND;VALUE=DATE:20200121
END:VEVENT
END:VCALENDAR
