BEGIN:VCALENDAR
VERSION:2.0
PRODID:SchoolNow
CALSCALE:GREGORIAN
BEGIN:VEVENT
UID:c729c088-ea31-11e9-b7ee-0a31933f87ea
DTSTAMP:20191009T011152Z
SUMMARY:1/2 Day - Staff Dev.
URL;VALUE=URI:https://www.winchesterschools.org/pearson-school/calendar/211
 7592/1-2-day-staff-dev
DTSTART;VALUE=DATE:20200212
DTEND;VALUE=DATE:20200213
END:VEVENT
END:VCALENDAR
