BEGIN:VCALENDAR
VERSION:2.0
PRODID:SchoolNow
CALSCALE:GREGORIAN
BEGIN:VEVENT
UID:6ebe6c30-ea33-11e9-909d-0a31933f87ea
DTSTAMP:20191009T012343Z
SUMMARY:BOE Regular Meeting
LOCATION:Town Hall Hicks Room
URL;VALUE=URI:https://www.winchesterschools.org/pearson-school/calendar/211
 7654/boe-regular-meeting
DTSTART:20200310T230000Z
DTEND:20200311T000000Z
END:VEVENT
END:VCALENDAR
