BEGIN:VCALENDAR
VERSION:2.0
PRODID:SchoolNow
CALSCALE:GREGORIAN
BEGIN:VEVENT
UID:b9335064-ea33-11e9-b32a-0a31933f87ea
DTSTAMP:20191009T012548Z
SUMMARY:BOE Regular Meeting
LOCATION:Town Hall Hicks Room
URL;VALUE=URI:https://www.winchesterschools.org/pearson-school/calendar/211
 7664/boe-regular-meeting
DTSTART:20200512T230000Z
DTEND:20200513T003000Z
END:VEVENT
END:VCALENDAR
