BEGIN:VCALENDAR
VERSION:2.0
PRODID:SchoolNow
CALSCALE:GREGORIAN
BEGIN:VEVENT
UID:fe714a3c-ea33-11e9-8973-12d45e688dfe
DTSTAMP:20191009T012744Z
SUMMARY:BOE Regular Meeting
URL;VALUE=URI:https://www.winchesterschools.org/pearson-school/calendar/211
 7669/boe-regular-meeting
DTSTART:20200609T230000Z
DTEND:20200610T000000Z
END:VEVENT
END:VCALENDAR
