BEGIN:VCALENDAR
VERSION:2.0
PRODID:SchoolNow
CALSCALE:GREGORIAN
BEGIN:VEVENT
UID:2aa817b6-ea34-11e9-aad7-12d45e688dfe
DTSTAMP:20191009T012858Z
SUMMARY:President's Day / Winter Recess
URL;VALUE=URI:https://www.winchesterschools.org/pearson-school/calendar/211
 7677/presidents-day-winter-recess
DTSTART;VALUE=DATE:20200217
DTEND;VALUE=DATE:20200218
END:VEVENT
END:VCALENDAR
