BEGIN:VCALENDAR
VERSION:2.0
PRODID:SchoolNow
CALSCALE:GREGORIAN
BEGIN:VEVENT
UID:44f6e1a6-ea34-11e9-b8e7-12d45e688dfe
DTSTAMP:20191009T012942Z
SUMMARY:President's Day / Winter Recess
URL;VALUE=URI:https://www.winchesterschools.org/pearson-school/calendar/211
 7680/presidents-day-winter-recess
DTSTART;VALUE=DATE:20200218
DTEND;VALUE=DATE:20200219
END:VEVENT
END:VCALENDAR
