BEGIN:VCALENDAR
VERSION:2.0
PRODID:SchoolNow
CALSCALE:GREGORIAN
BEGIN:VEVENT
UID:8e1d10fa-eafa-11e9-b84c-128c8db4267a
DTSTAMP:20191010T013234Z
SUMMARY:Spring Picture Day
LOCATION:Pearson School
URL;VALUE=URI:https://www.winchesterschools.org/pearson-school/calendar/211
 8413/spring-picture-day
DTSTART;VALUE=DATE:20200305
DTEND;VALUE=DATE:20200306
END:VEVENT
END:VCALENDAR
