BEGIN:VCALENDAR
VERSION:2.0
PRODID:SchoolNow
CALSCALE:GREGORIAN
BEGIN:VEVENT
UID:039edc3c-eafb-11e9-bc4d-1211f21fccf8
DTSTAMP:20191010T011222Z
SUMMARY:Grades Close
URL;VALUE=URI:https://www.winchesterschools.org/pearson-school/calendar/211
 8416/grades-close
DTSTART;VALUE=DATE:20200305
DTEND;VALUE=DATE:20200306
END:VEVENT
END:VCALENDAR
