BEGIN:VCALENDAR
VERSION:2.0
PRODID:SchoolNow
CALSCALE:GREGORIAN
BEGIN:VEVENT
UID:14e567d6-eafb-11e9-9060-1211f21fccf8
DTSTAMP:20191010T011251Z
SUMMARY:Staff Dev - Students Off
URL;VALUE=URI:https://www.winchesterschools.org/pearson-school/calendar/211
 8419/staff-dev-students-off
DTSTART;VALUE=DATE:20200306
DTEND;VALUE=DATE:20200307
END:VEVENT
END:VCALENDAR
