BEGIN:VCALENDAR
VERSION:2.0
PRODID:SchoolNow
CALSCALE:GREGORIAN
BEGIN:VEVENT
UID:2e7ac696-eafb-11e9-abb0-1211f21fccf8
DTSTAMP:20191010T011334Z
SUMMARY:1/2 Day - Evening Conferences
URL;VALUE=URI:https://www.winchesterschools.org/pearson-school/calendar/211
 8422/1-2-day-evening-conferences
DTSTART;VALUE=DATE:20200318
DTEND;VALUE=DATE:20200319
END:VEVENT
END:VCALENDAR
