BEGIN:VCALENDAR
VERSION:2.0
PRODID:SchoolNow
CALSCALE:GREGORIAN
BEGIN:VEVENT
UID:6b4eb6ea-eafb-11e9-a556-1211f21fccf8
DTSTAMP:20191010T011516Z
SUMMARY:Good Friday
URL;VALUE=URI:https://www.winchesterschools.org/pearson-school/calendar/211
 8431/good-friday
DTSTART;VALUE=DATE:20200410
DTEND;VALUE=DATE:20200411
END:VEVENT
END:VCALENDAR
