BEGIN:VCALENDAR
VERSION:2.0
PRODID:SchoolNow
CALSCALE:GREGORIAN
BEGIN:VEVENT
UID:8dd37cfa-eafb-11e9-ae47-1211f21fccf8
DTSTAMP:20191010T011614Z
SUMMARY:Spring Recess
URL;VALUE=URI:https://www.winchesterschools.org/pearson-school/calendar/211
 8434/spring-recess
DTSTART;VALUE=DATE:20200413
DTEND;VALUE=DATE:20200414
END:VEVENT
END:VCALENDAR
