BEGIN:VCALENDAR
VERSION:2.0
PRODID:SchoolNow
CALSCALE:GREGORIAN
BEGIN:VEVENT
UID:d1319ff4-eafb-11e9-bef0-1211f21fccf8
DTSTAMP:20191010T011807Z
SUMMARY:Spring Recess
URL;VALUE=URI:https://www.winchesterschools.org/pearson-school/calendar/211
 8441/spring-recess
DTSTART;VALUE=DATE:20200415
DTEND;VALUE=DATE:20200416
END:VEVENT
END:VCALENDAR
