BEGIN:VCALENDAR
VERSION:2.0
PRODID:SchoolNow
CALSCALE:GREGORIAN
BEGIN:VEVENT
UID:ecb0de48-eafb-11e9-aa6e-1211f21fccf8
DTSTAMP:20191010T011854Z
SUMMARY:Spring Recess
URL;VALUE=URI:https://www.winchesterschools.org/pearson-school/calendar/211
 8444/spring-recess-clone
DTSTART;VALUE=DATE:20200416
DTEND;VALUE=DATE:20200417
END:VEVENT
END:VCALENDAR
