BEGIN:VCALENDAR
VERSION:2.0
PRODID:SchoolNow
CALSCALE:GREGORIAN
BEGIN:VEVENT
UID:18ced03e-eafc-11e9-894b-1211f21fccf8
DTSTAMP:20191010T012008Z
SUMMARY:1/2 Day Students - Staff Dev.
URL;VALUE=URI:https://www.winchesterschools.org/pearson-school/calendar/211
 8452/1-2-day-students-staff-dev
DTSTART;VALUE=DATE:20200513
DTEND;VALUE=DATE:20200514
END:VEVENT
END:VCALENDAR
